BEGIN:VCALENDAR
VERSION:2.0
PRODID:-//Sabre//Sabre VObject 4.5.7//EN
CALSCALE:GREGORIAN
BEGIN:VEVENT
UID:sabre-vobject-fb87e43b-8908-499a-8d66-7937ffd594e1
DTSTAMP:20260421T113826Z
SUMMARY:Mine (Deutschland) & Lynn (St.Gallen)
DESCRIPTION:Die Ausnahmekünstlerin hat in der deutschen Pop-Landschaft ein
 en Sonderstatus. Man hört ihren Songs an\, dass sie gerne mit dem angeneh
 men Teil des deutschen HipHops arbeitet\, Leuten wie Samy Deluxe\, Edgar W
 asser und natürlich Fatoni. Gleichzeitig hat sie eine Affinität zu Popso
 ngs\, die mit einfachen Worten mehr sagen und eine ganz eigene Sprache spr
 echen – etwas\, das Tristan Brusch und Sophie Hunger in ihren deutschspr
 achigen Stücken immer wieder hinbekommen. All die hier genannten Namen ha
 ben übrigens schon mit Mine Songs aufgenommen – was vielleicht die Thes
 e nahelegt\, dass die beste Mine-Referenz die Quersumme all ihrer stets ha
 ndverlesenen Gäste ist. Ihre Lieder klingen anders\, nischig und mutig\, 
 gerade richtig leise und dann wieder laut. Die bildgewaltige Poesie der ei
 genwilligen\, unangepassten Popmusikerin wird zu einem wuchtigem Konzerter
 lebnis. 
LOCATION:Innenhof Kulturmuseum St.Gallen\, Museumsstrasse 50\, 9000 St.Gall
 en
DTSTART;TZID=Europe/Zurich:20300706T200000
DTEND;TZID=Europe/Zurich:20300706T223000
ORGANIZER:Verein Förderband
END:VEVENT
END:VCALENDAR
